Workbook

Sheet RESUMEN ESTRATEGIA
A1: RESUMEN DE ESTRATEGIA COMERCIAL
A3: META FINANCIERA | F3: DISTRIBUCIÓN POR ORIGEN
A4: Objetivo de ventas | C4: 120 | E4: ← Ingresa aquí | F4: Origen | G4: Objetivo | H4: Contribución | I4: Conversión | J4: BDD
A5: Ticket promedio | C5: 100 | E5: ← Ingresa aquí | F5: In bound (SEO, orgánico, redes) | G5: 0 | H5: =G5/G10 -> 0 | I5: 0 | J5: =IFERROR(G5/I5, 0) -> 0
A6: Tasa de Conversión | C6: 0.08 | E6: ← Ingresa aquí | F6: Publicidad tradicional | G6: 0 | H6: =G6/G10 -> 0 | I6: 0 | J6: =IFERROR(G6/I6, 0) -> 0
A7: Base de datos requerida | C7: 5000 | E7: ← Ingresa aquí | F7: Prospección | G7: 120 | H7: =G7/G10 -> 0.375 | I7: 0.01 | J7: =IFERROR(G7/I7, 0) -> 12000
A8: CPL estimado | C8: 10 | E8: ← Ingresa aquí | F8: Referidos | G8: 200 | H8: =G8/G10 -> 0.625 | I8: 0.02 | J8: =IFERROR(G8/I8, 0) -> 10000
A9: Inversión total estimada | C9: 50000 | E9: ← Ingresa aquí | F9: Otros | G9: 0 | H9: =G9/G10 -> 0 | I9: 0 | J9: =IFERROR(G9/I9, 0) -> 0
F10: TOTAL | G10: =SUM(G5:G9) -> 320
F12: 📊 El gráfico de contribución por origen se visualiza en la pestaña GRÁFICOS

Sheet CALCULADORA DE CONVERSIÓN
A1: CALCULADORA DE CONVERSIÓN
A3: PARÁMETROS DE ENTRADA
A4: Meta de ventas del período | C4: 400
A5: Tasa de conversión esperada (%) | C5: 0.08
A6: CPL promedio | C6: 10
A8: RESULTADOS AUTOMÁTICOS
A9: BDD Requerida | C9: =ROUNDUP(C4/C5,0) -> 5000
A10: Inversión total estimada | C10: =ROUNDUP(C4/C5,0)*C6 -> 50000
A11: Costo por venta | C11: =IF(C4=0,0,ROUNDUP(C4/C5,0)*C6/C4) -> 125

Sheet OBJETIVOS COMERCIALES
A1: OBJETIVOS COMERCIALES
A2: ✏ Celda de captura (azul) | C2: ⚙ Fórmula automática (negro) | E2: ▶ Semáforo automático
A3: Origen | B3: Objetivo de Venta | C3: Contribución por Meta | D3: Conversión Esperada | E3: BDD Requerida | F3: CPL | G3: Inversión por Origen | H3: Semáforo
A4: In bound (SEO, orgánico, redes) | B4: 0 | C4: =IF(B9=0,0,B4/B9) -> 0 | D4: 0 | E4: =IF(D4=0,0,ROUNDUP(B4/D4,0)) -> 0 | F4: 0 | G4: =E4*F4 -> 0 | H4: =IF(D4>=0.1,"🟢 ALTA",IF(D4>=0.05,"🟡 MEDIA","🔴 BAJA")) -> 🔴 BAJA
A5: Publicidad tradicional | B5: 0 | C5: =IF(B9=0,0,B5/B9) -> 0 | D5: 0 | E5: =IF(D5=0,0,ROUNDUP(B5/D5,0)) -> 0 | F5: 0 | G5: =E5*F5 -> 0 | H5: =IF(D5>=0.1,"🟢 ALTA",IF(D5>=0.05,"🟡 MEDIA","🔴 BAJA")) -> 🔴 BAJA
A6: Prospección | B6: 120 | C6: =IF(B9=0,0,B6/B9) -> 0.375 | D6: 0.01 | E6: =IF(D6=0,0,ROUNDUP(B6/D6,0)) -> 12000 | F6: 10 | G6: =E6*F6 -> 120000 | H6: =IF(D6>=0.1,"🟢 ALTA",IF(D6>=0.05,"🟡 MEDIA","🔴 BAJA")) -> 🔴 BAJA
A7: Referidos | B7: 200 | C7: =IF(B9=0,0,B7/B9) -> 0.625 | D7: 0.02 | E7: =IF(D7=0,0,ROUNDUP(B7/D7,0)) -> 10000 | F7: 15 | G7: =E7*F7 -> 150000 | H7: =IF(D7>=0.1,"🟢 ALTA",IF(D7>=0.05,"🟡 MEDIA","🔴 BAJA")) -> 🔴 BAJA
A8: Otros | B8: 0 | C8: =IF(B9=0,0,B8/B9) -> 0 | D8: 0 | E8: =IF(D8=0,0,ROUNDUP(B8/D8,0)) -> 0 | F8: 0 | G8: =E8*F8 -> 0 | H8: =IF(D8>=0.1,"🟢 ALTA",IF(D8>=0.05,"🟡 MEDIA","🔴 BAJA")) -> 🔴 BAJA
A9: TOTAL | B9: =SUM(B4:B8) -> 320 | C9: =SUM(C4:C8) -> 1 | D9: =AVERAGE(D4:D8) -> 0.006 | E9: =SUM(E4:E8) -> 22000 | F9: =SUM(F4:F8) -> 25 | G9: =SUM(G4:G8) -> 270000

Sheet PLAN DE PROSPECCIÓN
A1: PLAN DE PROSPECCIÓN
A2: Registra las acciones de prospección por origen. Las celdas azules son de captura.
A3: Origen / Tarea | B3: Responsable | C3: Fecha Inicio | D3: Fecha Fin | E3: BDD Objetivo | F3: Recursos / Notas
A4: In bound (SEO, orgánico, redes)
A9: Subtotal In bound (SEO, orgánico, redes) | E9: =SUM(E5:E8) -> 0
A11: Publicidad tradicional
A16: Subtotal Publicidad tradicional | E16: =SUM(E12:E15) -> 0
A18: Prospección
A19: Sesión de GMM en hospital SJ | B19: SANDRA | C19: 46188 | E19: 40
A23: Subtotal Prospección | E23: =SUM(E19:E22) -> 40
A25: Referidos
A30: Subtotal Referidos | E30: =SUM(E26:E29) -> 0
A32: Otros
A37: Subtotal Otros | E37: =SUM(E33:E36) -> 0
A39: TOTAL BDD REQUERIDA | E39: =E8+E14+E20+E26+E32 -> 0

Sheet CURVAS
A1: CURVAS DE AVANCE SEMANAL — CAPTURA AQUÍ TUS RESULTADOS REALES CADA SEMANA
A2: 📌 SECCIÓN 1 — VENTAS CERRADAS POR SEMANA: Escribe cuántas ventas cerraste cada semana en cada origen
A3: Origen | B3: Meta | C3: Sem 1 | D3: Sem 2 | E3: Sem 3 | F3: Sem 4 | G3: Sem 5 | H3: Sem 6 | I3: Sem 7 | J3: Sem 8 | K3: Sem 9 | L3: Sem 10 | M3: Sem 11 | N3: Sem 12 | O3: Avance %
A4: In bound (SEO, orgánico, redes) | B4: 0 | C4: 0 | D4: 0 | E4: 0 | F4: 0 | G4: 14 | H4: 18 | I4: 16 | J4: 20 | K4: 12 | L4: 10 | M4: 5 | N4: 0 | O4: =IF(B4=0,0,SUM(C4:N4)/B4) -> 0
A5: Publicidad tradicional | B5: ='OBJETIVOS COMERCIALES'!B5 -> 0 | C5: 0 | D5: 0 | E5: 0 | F5: 0 | G5: 7 | H5: 9 | I5: 8 | J5: 10 | K5: 6 | L5: 5 | M5: 3 | N5: 0 | O5: =IF(B5=0,0,SUM(C5:N5)/B5) -> 0
A6: Prospección | B6: 120 | C6: 20 | D6: 10 | E6: 30 | F6: 35 | G6: 28 | H6: 32 | I6: 40 | J6: 38 | K6: 35 | L6: 30 | M6: 20 | N6: 0 | O6: =IF(B6=0,0,SUM(C6:N6)/B6) -> 2.65
A7: Referidos | B7: 200 | C7: 5 | D7: 8 | E7: 8 | F7: 10 | G7: 9 | H7: 11 | I7: 10 | J7: 12 | K7: 8 | L7: 7 | M7: 5 | N7: 0 | O7: =IF(B7=0,0,SUM(C7:N7)/B7) -> 0.465
A8: Otros | B8: ='OBJETIVOS COMERCIALES'!B8 -> 0 | C8: 0 | D8: 0 | E8: 0 | F8: 0 | G8: 0 | H8: 0 | I8: 0 | J8: 0 | K8: 0 | L8: 0 | M8: 0 | N8: 0 | O8: =IF(B8=0,0,SUM(C8:N8)/B8) -> 0
A9: ✅ Real semanal (suma de orígenes) | B9: =SUM(B4:B8) -> 320 | C9: =SUM(C4:C8) -> 25 | D9: =SUM(D4:D8) -> 18 | E9: =SUM(E4:E8) -> 38 | F9: =SUM(F4:F8) -> 45 | G9: =SUM(G4:G8) -> 58 | H9: =SUM(H4:H8) -> 70 | I9: =SUM(I4:I8) -> 74 | ... N9: =SUM(N4:N8) -> 0 | O9: =IF(B9=0,0,SUM(C9:N9)/B9) -> 1.73125
A11: 📌 SECCIÓN 2 — BDD (BASE DE DATOS) CAPTADA POR SEMANA: Escribe cuántos registros nuevos captaste cada semana
A12: Origen | B12: Meta | C12: Sem 1 | D12: Sem 2 | E12: Sem 3 | F12: Sem 4 | G12: Sem 5 | H12: Sem 6 | I12: Sem 7 | J12: Sem 8 | K12: Sem 9 | L12: Sem 10 | M12: Sem 11 | N12: Sem 12 | O12: Avance %
A13: In bound (SEO, orgánico, redes) | B13: ='OBJETIVOS COMERCIALES'!B4 -> 0 | C13: 50 | D13: 70 | E13: 80 | F13: 90 | G13: 85 | H13: 100 | I13: 95 | J13: 110 | K13: 70 | L13: 65 | M13: 0 | N13: 0 | O13: =IF(B13=0,0,SUM(C13:N13)/B13) -> 0
A14: Publicidad tradicional | B14: ='OBJETIVOS COMERCIALES'!B5 -> 0 | C14: 30 | D14: 40 | E14: 50 | F14: 55 | G14: 48 | H14: 60 | I14: 55 | J14: 70 | K14: 45 | L14: 40 | M14: 0 | N14: 0 | O14: =IF(B14=0,0,SUM(C14:N14)/B14) -> 0
A15: Prospección | B15: 12000 | C15: 300 | D15: 350 | E15: 400 | F15: 450 | G15: 380 | H15: 420 | I15: 500 | J15: 480 | K15: 430 | L15: 390 | M15: 270 | N15: 0 | O15: =IF(B15=0,0,SUM(C15:N15)/B15) -> 0.36416667
A16: Referidos | B16: 10000 | C16: 20 | D16: 30 | E16: 30 | F16: 40 | G16: 35 | H16: 45 | I16: 40 | J16: 50 | K16: 30 | L16: 28 | M16: 22 | N16: 0 | O16: =IF(B16=0,0,SUM(C16:N16)/B16) -> 0.037
A17: Otros | B17: ='OBJETIVOS COMERCIALES'!B8 -> 0 | C17: 0 | D17: 0 | E17: 0 | F17: 0 | G17: 0 | H17: 0 | I17: 0 | J17: 0 | K17: 0 | L17: 0 | M17: 0 | N17: 0 | O17: =IF(B17=0,0,SUM(C17:N17)/B17) -> 0
A18: ✅ Real semanal (suma de orígenes) | B18: =SUM(B13:B17) -> 22000 | C18: =SUM(C13:C17) -> 400 | D18: =SUM(D13:D17) -> 490 | E18: =SUM(E13:E17) -> 560 | F18: =SUM(F13:F17) -> 635 | G18: =SUM(G13:G17) -> 548 | H18: =SUM(H13:H17) -> 625 | I18: =SUM(I13:I17) -> 690 | ... N18: =SUM(N13:N17) -> 0 | O18: =IF(B18=0,0,SUM(C18:N18)/B18) -> 0.27490909
A20: ✏ Las celdas azules (Sem 1–Sem 12) son las únicas que debes capturar. Meta y Avance % se calculan solos. Los gráficos en la pestaña GRÁFICOS se actualizan automáticamente.

Sheet GRÁFICOS
A1: DASHBOARD EJECUTIVO — PLANEACIÓN COMERCIAL
A2: Los gráficos y KPIs se actualizan automáticamente con los datos de OBJETIVOS COMERCIALES y CURVAS
A3: Meta Total de Ventas | E3: BDD Total Requerida | I3: Inversión Total | M3: Conversión Promedio | Q3: % Avance Ventas | U3: % Avance BDD
A4: ='OBJETIVOS COMERCIALES'!B9 -> 320 | E4: ='OBJETIVOS COMERCIALES'!E9 -> 22000 | I4: ='OBJETIVOS COMERCIALES'!G9 -> 270000 | M4: ='OBJETIVOS COMERCIALES'!D9 -> 0.006 | Q4: =IFERROR(CURVAS!O9,0) -> 1.73125 | U4: =IFERROR(CURVAS!O18,0) -> 0.27490909
A42: AVANCE ACTUAL POR ORIGEN
A43: Origen | B43: Meta Ventas | C43: Ventas Captadas | D43: % Ventas | E43: Meta BDD | F43: BDD Captada | G43: % BDD
A44: In bound | B44: ='OBJETIVOS COMERCIALES'!B4 -> 0 | C44: =SUM(CURVAS!C4:N4) -> 95 | D44: =IFERROR(C44/B44,0) -> 0 | E44: ='OBJETIVOS COMERCIALES'!E4 -> 0 | F44: =SUM(CURVAS!C13:N13) -> 815 | G44: =IFERROR(F44/E44,0) -> 0
A45: Pub. tradicional | B45: ='OBJETIVOS COMERCIALES'!B5 -> 0 | C45: =SUM(CURVAS!C5:N5) -> 48 | D45: =IFERROR(C45/B45,0) -> 0 | E45: ='OBJETIVOS COMERCIALES'!E5 -> 0 | F45: =SUM(CURVAS!C14:N14) -> 493 | G45: =IFERROR(F45/E45,0) -> 0
A46: Prospección | B46: ='OBJETIVOS COMERCIALES'!B6 -> 120 | C46: =SUM(CURVAS!C6:N6) -> 318 | D46: =IFERROR(C46/B46,0) -> 2.65 | E46: ='OBJETIVOS COMERCIALES'!E6 -> 12000 | F46: =SUM(CURVAS!C15:N15) -> 4370 | G46: =IFERROR(F46/E46,0) -> 0.36416667
A47: Referidos | B47: ='OBJETIVOS COMERCIALES'!B7 -> 200 | C47: =SUM(CURVAS!C7:N7) -> 93 | D47: =IFERROR(C47/B47,0) -> 0.465 | E47: ='OBJETIVOS COMERCIALES'!E7 -> 10000 | F47: =SUM(CURVAS!C16:N16) -> 370 | G47: =IFERROR(F47/E47,0) -> 0.037
A48: Otros | B48: ='OBJETIVOS COMERCIALES'!B8 -> 0 | C48: =SUM(CURVAS!C8:N8) -> 0 | D48: =IFERROR(C48/B48,0) -> 0 | E48: ='OBJETIVOS COMERCIALES'!E8 -> 0 | F48: =SUM(CURVAS!C17:N17) -> 0 | G48: =IFERROR(F48/E48,0) -> 0
A49: TOTAL | B49: =SUM(B44:B48) -> 320 | C49: =SUM(C44:C48) -> 554 | D49: =IFERROR(C49/B49,0) -> 1.73125 | E49: =SUM(E44:E48) -> 22000 | F49: =SUM(F44:F48) -> 6048 | G49: =IFERROR(F49/E49,0) -> 0.27490909
A50: 📋 Captura los avances semanales en la pestaña CURVAS (columnas Sem 1 a Sem 12). Todos los gráficos y la tabla anterior se actualizan automáticamente.
AB60: Origen | AC60: Contribución
AB61: In bound | AC61: ='OBJETIVOS COMERCIALES'!C4 -> 0
AB62: Pub. tradicional | AC62: ='OBJETIVOS COMERCIALES'!C5 -> 0
AB63: Prospección | AC63: ='OBJETIVOS COMERCIALES'!C6 -> 0.375
AB64: Referidos | AC64: ='OBJETIVOS COMERCIALES'!C7 -> 0.625
AB65: Otros | AC65: ='OBJETIVOS COMERCIALES'!C8 -> 0
AB75: Semana | AC75: Ventas Reales | AD75: Meta Semanal
AB76: Sem 1 | AC76: =CURVAS!C9 -> 25 | AD76: ='OBJETIVOS COMERCIALES'!B9/12*1 -> 26.666667
AB77: Sem 2 | AC77: =CURVAS!C9+CURVAS!D9 -> 43 | AD77: ='OBJETIVOS COMERCIALES'!B9/12*2 -> 53.333333
AB78: Sem 3 | AC78: =CURVAS!C9+CURVAS!D9+CURVAS!E9 -> 81 | AD78: ='OBJETIVOS COMERCIALES'!B9/12*3 -> 80
AB79: Sem 4 | AC79: =CURVAS!C9+CURVAS!D9+CURVAS!E9+CURVAS!F9 -> 126 | AD79: ='OBJETIVOS COMERCIALES'!B9/12*4 -> 106.66667
AB80: Sem 5 | AC80: =CURVAS!C9+CURVAS!D9+CURVAS!E9+CURVAS!F9+CURVAS!G9 -> 184 | AD80: ='OBJETIVOS COMERCIALES'!B9/12*5 -> 133.33333
AB81: Sem 6 | AC81: =CURVAS!C9+CURVAS!D9+CURVAS!E9+CURVAS!F9+CURVAS!G9+CURVAS!H9 -> 254 | AD81: ='OBJETIVOS COMERCIALES'!B9/12*6 -> 160
AB82: Sem 7 | AC82: =CURVAS!C9+CURVAS!D9+CURVAS!E9+CURVAS!F9+CURVAS!G9+CURVAS!H9+CURVAS!I9 -> 328 | AD82: ='OBJETIVOS COMERCIALES'!B9/12*7 -> 186.66667
AB83: Sem 8 | AC83: =CURVAS!C9+CURVAS!D9+CURVAS!E9+CURVAS!F9+CURVAS!G9+CURVAS!H9+CURVAS!I9+CURVAS!J9 -> 408 | AD83: ='OBJETIVOS COMERCIALES'!B9/12*8 -> 213.33333
AB84: Sem 9 | AC84: =CURVAS!C9+CURVAS!D9+CURVAS!E9+CURVAS!F9+CURVAS!G9+CURVAS!H9+CURVAS!I9+CURVAS!J9+CURVAS!K9 -> 469 | AD84: ='OBJETIVOS COMERCIALES'!B9/12*9 -> 240
AB85: Sem 10 | AC85: =CURVAS!C9+CURVAS!D9+CURVAS!E9+CURVAS!F9+CURVAS!G9+CURVAS!H9+CURVAS!I9+CURVAS!J9+CURVAS!K9+CURVAS!L9 -> 521 | AD85: ='OBJETIVOS COMERCIALES'!B9/12*10 -> 266.66667
AB86: Sem 11 | AC86: =CURVAS!C9+CURVAS!D9+CURVAS!E9+CURVAS!F9+CURVAS!G9+CURVAS!H9+CURVAS!I9+CURVAS!J9+CURVAS!K9+CURVAS!L9+CURVAS!M9 -> 554 | AD86: ='OBJETIVOS COMERCIALES'!B9/12*11 -> 293.33333
AB87: Sem 12 | AC87: =CURVAS!C9+CURVAS!D9+CURVAS!E9+CURVAS!F9+CURVAS!G9+CURVAS!H9+CURVAS!I9+CURVAS!J9+CURVAS!K9+CURVAS!L9+CURVAS!M9+CURVAS!N9 -> 554 | AD87: ='OBJETIVOS COMERCIALES'!B9/12*12 -> 320
AB92: Semana | AC92: BDD Captada | AD92: Meta BDD
AB93: Sem 1 | AC93: =CURVAS!C18 -> 400 | AD93: ='OBJETIVOS COMERCIALES'!E9/12*1 -> 1833.3333
AB94: Sem 2 | AC94: =CURVAS!C18+CURVAS!D18 -> 890 | AD94: ='OBJETIVOS COMERCIALES'!E9/12*2 -> 3666.6667
AB95: Sem 3 | AC95: =CURVAS!C18+CURVAS!D18+CURVAS!E18 -> 1450 | AD95: ='OBJETIVOS COMERCIALES'!E9/12*3 -> 5500
AB96: Sem 4 | AC96: =CURVAS!C18+CURVAS!D18+CURVAS!E18+CURVAS!F18 -> 2085 | AD96: ='OBJETIVOS COMERCIALES'!E9/12*4 -> 7333.3333
AB97: Sem 5 | AC97: =CURVAS!C18+CURVAS!D18+CURVAS!E18+CURVAS!F18+CURVAS!G18 -> 2633 | AD97: ='OBJETIVOS COMERCIALES'!E9/12*5 -> 9166.6667
AB98: Sem 6 | AC98: =CURVAS!C18+CURVAS!D18+CURVAS!E18+CURVAS!F18+CURVAS!G18+CURVAS!H18 -> 3258 | AD98: ='OBJETIVOS COMERCIALES'!E9/12*6 -> 11000
AB99: Sem 7 | AC99: =CURVAS!C18+CURVAS!D18+CURVAS!E18+CURVAS!F18+CURVAS!G18+CURVAS!H18+CURVAS!I18 -> 3948 | AD99: ='OBJETIVOS COMERCIALES'!E9/12*7 -> 12833.333
AB100: Sem 8 | AC100: =CURVAS!C18+CURVAS!D18+CURVAS!E18+CURVAS!F18+CURVAS!G18+CURVAS!H18+CURVAS!I18+CURVAS!J18 -> 4658 | AD100: ='OBJETIVOS COMERCIALES'!E9/12*8 -> 14666.667
AB101: Sem 9 | AC101: =CURVAS!C18+CURVAS!D18+CURVAS!E18+CURVAS!F18+CURVAS!G18+CURVAS!H18+CURVAS!I18+CURVAS!J18+CURVAS!K18 -> 5233 | AD101: ='OBJETIVOS COMERCIALES'!E9/12*9 -> 16500
AB102: Sem 10 | AC102: =CURVAS!C18+CURVAS!D18+CURVAS!E18+CURVAS!F18+CURVAS!G18+CURVAS!H18+CURVAS!I18+CURVAS!J18+CURVAS!K18+CURVAS!L18 -> 5756 | AD102: ='OBJETIVOS COMERCIALES'!E9/12*10 -> 18333.333
AB103: Sem 11 | AC103: =CURVAS!C18+CURVAS!D18+CURVAS!E18+CURVAS!F18+CURVAS!G18+CURVAS!H18+CURVAS!I18+CURVAS!J18+CURVAS!K18+CURVAS!L18+CURVAS!M18 -> 6048 | AD103: ='OBJETIVOS COMERCIALES'!E9/12*11 -> 20166.667
AB104: Sem 12 | AC104: =CURVAS!C18+CURVAS!D18+CURVAS!E18+CURVAS!F18+CURVAS!G18+CURVAS!H18+CURVAS!I18+CURVAS!J18+CURVAS!K18+CURVAS!L18+CURVAS!M18+CURVAS!N18 -> 6048 | AD104: ='OBJETIVOS COMERCIALES'!E9/12*12 -> 22000
AB110: Origen | AC110: Meta | AD110: Avance | AE110: % Avance
AB111: In bound | AC111: ='OBJETIVOS COMERCIALES'!B4 -> 0 | AD111: =SUM(CURVAS!C4:N4) -> 95 | AE111: =IFERROR(AD111/AC111,0) -> 0
AB112: Pub. tradicional | AC112: ='OBJETIVOS COMERCIALES'!B5 -> 0 | AD112: =SUM(CURVAS!C5:N5) -> 48 | AE112: =IFERROR(AD112/AC112,0) -> 0
AB113: Prospección | AC113: ='OBJETIVOS COMERCIALES'!B6 -> 120 | AD113: =SUM(CURVAS!C6:N6) -> 318 | AE113: =IFERROR(AD113/AC113,0) -> 2.65
AB114: Referidos | AC114: ='OBJETIVOS COMERCIALES'!B7 -> 200 | AD114: =SUM(CURVAS!C7:N7) -> 93 | AE114: =IFERROR(AD114/AC114,0) -> 0.465
AB115: Otros | AC115: ='OBJETIVOS COMERCIALES'!B8 -> 0 | AD115: =SUM(CURVAS!C8:N8) -> 0 | AE115: =IFERROR(AD115/AC115,0) -> 0
AB120: Origen | AC120: Meta BDD | AD120: BDD Captada | AE120: % Avance
AB121: In bound | AC121: ='OBJETIVOS COMERCIALES'!E4 -> 0 | AD121: =SUM(CURVAS!C13:N13) -> 815 | AE121: =IFERROR(AD121/AC121,0) -> 0
AB122: Pub. tradicional | AC122: ='OBJETIVOS COMERCIALES'!E5 -> 0 | AD122: =SUM(CURVAS!C14:N14) -> 493 | AE122: =IFERROR(AD122/AC122,0) -> 0
AB123: Prospección | AC123: ='OBJETIVOS COMERCIALES'!E6 -> 12000 | AD123: =SUM(CURVAS!C15:N15) -> 4370 | AE123: =IFERROR(AD123/AC123,0) -> 0.36416667
AB124: Referidos | AC124: ='OBJETIVOS COMERCIALES'!E7 -> 10000 | AD124: =SUM(CURVAS!C16:N16) -> 370 | AE124: =IFERROR(AD124/AC124,0) -> 0.037
AB125: Otros | AC125: ='OBJETIVOS COMERCIALES'!E8 -> 0 | AD125: =SUM(CURVAS!C17:N17) -> 0 | AE125: =IFERROR(AD125/AC125,0) -> 0
